BEGIN:VCALENDAR
VERSION:2.0
PRODID:-//Apple Inc.//Mac OS X 10.11.4//EN
CALSCALE:GREGORIAN
BEGIN:VEVENT
UID:88ea3a27af68bfb74195ae410cbc5dbf
DTEND;TZID=America/New_York:20231105T102000
DTSTART;TZID=America/New_York:20231105T082000
DTSTAMP;TZID=America/New_York:20231105T082000
LOCATION: Fairfax Ice Arena
SUMMARY;LANGUAGE=en-US: vs 
END:VEVENT
BEGIN:VEVENT
UID:3b12a1e8509f2978249c89dac57a1f9b
DTEND;TZID=America/New_York:20231109T235500
DTSTART;TZID=America/New_York:20231109T215500
DTSTAMP;TZID=America/New_York:20231109T215500
LOCATION: Fairfax Ice Arena
SUMMARY;LANGUAGE=en-US: vs 
END:VEVENT
BEGIN:VEVENT
UID:204d201008d92283248b0dd5e28493bf
DTEND;TZID=America/New_York:20231118T004000
DTSTART;TZID=America/New_York:20231117T224000
DTSTAMP;TZID=America/New_York:20231117T224000
LOCATION: Fairfax Ice Arena
SUMMARY;LANGUAGE=en-US: vs 
END:VEVENT
BEGIN:VEVENT
UID:099a37d202e62713d3295c98b1a5a69b
DTEND;TZID=America/New_York:20231126T221000
DTSTART;TZID=America/New_York:20231126T201000
DTSTAMP;TZID=America/New_York:20231126T201000
LOCATION: Fairfax Ice Arena
SUMMARY;LANGUAGE=en-US: vs 
END:VEVENT
BEGIN:VEVENT
UID:0edd52f865f9a49d59d3d674a98e95d4
DTEND;TZID=America/New_York:20231130T235500
DTSTART;TZID=America/New_York:20231130T215500
DTSTAMP;TZID=America/New_York:20231130T215500
LOCATION: Fairfax Ice Arena
SUMMARY;LANGUAGE=en-US: vs 
END:VEVENT
BEGIN:VEVENT
UID:02893d1af7de2bd91d72950ac717138b
DTEND;TZID=America/New_York:20231208T011500
DTSTART;TZID=America/New_York:20231207T231500
DTSTAMP;TZID=America/New_York:20231207T231500
LOCATION: Fairfax Ice Arena
SUMMARY;LANGUAGE=en-US: vs 
END:VEVENT
BEGIN:VEVENT
UID:59ae5734cc3c32cc16d489f606d01494
DTEND;TZID=America/New_York:20231222T004000
DTSTART;TZID=America/New_York:20231221T224000
DTSTAMP;TZID=America/New_York:20231221T224000
LOCATION: Fairfax Ice Arena
SUMMARY;LANGUAGE=en-US: vs 
END:VEVENT
BEGIN:VEVENT
UID:7447af1a185867649d30f0d5ef61af48
DTEND;TZID=America/New_York:20231230T090000
DTSTART;TZID=America/New_York:20231230T070000
DTSTAMP;TZID=America/New_York:20231230T070000
LOCATION: Fairfax Ice Arena
SUMMARY;LANGUAGE=en-US: vs 
END:VEVENT
BEGIN:VEVENT
UID:fcec7bd47f490bf76cae839ed6de5c8c
DTEND;TZID=America/New_York:20240104T235500
DTSTART;TZID=America/New_York:20240104T215500
DTSTAMP;TZID=America/New_York:20240104T215500
LOCATION: Fairfax Ice Arena
SUMMARY;LANGUAGE=en-US: vs 
END:VEVENT
BEGIN:VEVENT
UID:ec1f78db884e3cd6d848c15c277cfc7f
DTEND;TZID=America/New_York:20240121T201500
DTSTART;TZID=America/New_York:20240121T181500
DTSTAMP;TZID=America/New_York:20240121T181500
LOCATION: Fairfax Ice Arena
SUMMARY;LANGUAGE=en-US: vs 
END:VEVENT
BEGIN:VEVENT
UID:a393c55d7370cf4ae0da7b1b825e6841
DTEND;TZID=America/New_York:20240201T235500
DTSTART;TZID=America/New_York:20240201T215500
DTSTAMP;TZID=America/New_York:20240201T215500
LOCATION: Fairfax Ice Arena
SUMMARY;LANGUAGE=en-US: vs 
END:VEVENT
BEGIN:VEVENT
UID:d9aa00545888731025f67e40ebbc85a4
DTEND;TZID=America/New_York:20240208T235500
DTSTART;TZID=America/New_York:20240208T215500
DTSTAMP;TZID=America/New_York:20240208T215500
LOCATION: Fairfax Ice Arena
SUMMARY;LANGUAGE=en-US: vs 
END:VEVENT
BEGIN:VEVENT
UID:d26a0816d3af3dc7470a6a818cc0364b
DTEND;TZID=America/New_York:20240216T011500
DTSTART;TZID=America/New_York:20240215T231500
DTSTAMP;TZID=America/New_York:20240215T231500
LOCATION: Fairfax Ice Arena
SUMMARY;LANGUAGE=en-US: vs 
END:VEVENT
BEGIN:VEVENT
UID:3a8047aaaba6a18091edab359fe1cf5c
DTEND;TZID=America/New_York:20240222T235500
DTSTART;TZID=America/New_York:20240222T215500
DTSTAMP;TZID=America/New_York:20240222T215500
LOCATION: Fairfax Ice Arena
SUMMARY;LANGUAGE=en-US: vs 
END:VEVENT
BEGIN:VEVENT
UID:61016a83feea0127281e7effb6d65e6a
DTEND;TZID=America/New_York:20240302T091500
DTSTART;TZID=America/New_York:20240302T071500
DTSTAMP;TZID=America/New_York:20240302T071500
LOCATION: Fairfax Ice Arena
SUMMARY;LANGUAGE=en-US: vs 
END:VEVENT
BEGIN:VEVENT
UID:7e77c19bab31547e3014fd3bf7ce53bd
DTEND;TZID=America/New_York:20240308T011500
DTSTART;TZID=America/New_York:20240307T231500
DTSTAMP;TZID=America/New_York:20240307T231500
LOCATION: Fairfax Ice Arena
SUMMARY;LANGUAGE=en-US: vs 
END:VEVENT
BEGIN:VEVENT
UID:142b3900f49015122910edc28f78465d
DTEND;TZID=America/New_York:20240317T225500
DTSTART;TZID=America/New_York:20240317T205500
DTSTAMP;TZID=America/New_York:20240317T205500
LOCATION: Fairfax Ice Arena
SUMMARY;LANGUAGE=en-US: vs 
END:VEVENT
BEGIN:VEVENT
UID:7274bf527cd008150e5e8e5115f4f1cd
DTEND;TZID=America/New_York:20240324T102000
DTSTART;TZID=America/New_York:20240324T082000
DTSTAMP;TZID=America/New_York:20240324T082000
LOCATION: Fairfax Ice Arena
SUMMARY;LANGUAGE=en-US: vs 
END:VEVENT
BEGIN:VEVENT
UID:7162ef34c4dccebd7f283a2b12cc3e34
DTEND;TZID=America/New_York:20240406T183000
DTSTART;TZID=America/New_York:20240406T163000
DTSTAMP;TZID=America/New_York:20240406T163000
LOCATION: Fairfax Ice Arena
SUMMARY;LANGUAGE=en-US: vs 
END:VEVENT
BEGIN:VEVENT
UID:f0cbb083e5a8418e1cafd69b03e562cd
DTEND;TZID=America/New_York:20240411T235500
DTSTART;TZID=America/New_York:20240411T215500
DTSTAMP;TZID=America/New_York:20240411T215500
LOCATION: Fairfax Ice Arena
SUMMARY;LANGUAGE=en-US: vs 
END:VEVENT
END:VCALENDAR
